BEGIN:VCALENDAR
VERSION:2.0
PRODID:icalendar-ruby
CALSCALE:GREGORIAN
METHOD:PUBLISH
BEGIN:VEVENT
DTSTAMP:20260424T023959Z
UID:16-1541997@crossroadselgin.com
DTSTART:20261018T140000Z
DTEND:20261018T151500Z
CLASS:PUBLIC
CREATED:20260423T211741
DESCRIPTION:We have classes for all ages from birth to senior adults.
LAST-MODIFIED:20260423T211741
LOCATION:
SUMMARY:Sunday School
URL;VALUE=URI:https://crossroadselgin.com/events/sunday-school/2026-10-18
ATTACH;FILENAME=Sunday-School.png;FMTTYPE=image/png:https://dq5pwpg1q8ru0.c
 loudfront.net/2023/05/03/10/13/26/a5069cea-b83c-4a60-be0b-f58591adb675/Sun
 day-School.png
END:VEVENT
END:VCALENDAR
